BEGIN:VCALENDAR
VERSION:2.0
PRODID:-//Northwest Scuba - ECPv6.15.11//NONSGML v1.0//EN
CALSCALE:GREGORIAN
METHOD:PUBLISH
X-WR-CALNAME:Northwest Scuba
X-ORIGINAL-URL:https://www.northwestscuba.com
X-WR-CALDESC:Events for Northwest Scuba
REFRESH-INTERVAL;VALUE=DURATION:PT1H
X-Robots-Tag:noindex
X-PUBLISHED-TTL:PT1H
BEGIN:VTIMEZONE
TZID:America/Edmonton
BEGIN:DAYLIGHT
TZOFFSETFROM:-0700
TZOFFSETTO:-0600
TZNAME:MDT
DTSTART:20200308T090000
END:DAYLIGHT
BEGIN:STANDARD
TZOFFSETFROM:-0600
TZOFFSETTO:-0700
TZNAME:MST
DTSTART:20201101T080000
END:STANDARD
BEGIN:DAYLIGHT
TZOFFSETFROM:-0700
TZOFFSETTO:-0600
TZNAME:MDT
DTSTART:20210314T090000
END:DAYLIGHT
BEGIN:STANDARD
TZOFFSETFROM:-0600
TZOFFSETTO:-0700
TZNAME:MST
DTSTART:20211107T080000
END:STANDARD
BEGIN:DAYLIGHT
TZOFFSETFROM:-0700
TZOFFSETTO:-0600
TZNAME:MDT
DTSTART:20220313T090000
END:DAYLIGHT
BEGIN:STANDARD
TZOFFSETFROM:-0600
TZOFFSETTO:-0700
TZNAME:MST
DTSTART:20221106T080000
END:STANDARD
BEGIN:DAYLIGHT
TZOFFSETFROM:-0700
TZOFFSETTO:-0600
TZNAME:MDT
DTSTART:20230312T090000
END:DAYLIGHT
BEGIN:STANDARD
TZOFFSETFROM:-0600
TZOFFSETTO:-0700
TZNAME:MST
DTSTART:20231105T080000
END:STANDARD
END:VTIMEZONE
BEGIN:VEVENT
DTSTART;TZID=America/Edmonton:20220618T190000
DTEND;TZID=America/Edmonton:20220618T210000
DTSTAMP:20260423T100636
CREATED:20220430T204414Z
LAST-MODIFIED:20220430T204414Z
UID:3425-1655578800-1655586000@www.northwestscuba.com
SUMMARY:Deep Sea Adventure
DESCRIPTION:Have you ever wondered what it is like to dive in the lagoon at West Edmonton Mall. Call and book your spot.
URL:https://www.northwestscuba.com/event/deep-sea-adventure-11/
LOCATION:Deep Sea Adventure Lagoon – WEM\, 1755-8882 170 St NW\, Edmonton\, Alberta\, T5T 4J2\, Canada
END:VEVENT
BEGIN:VEVENT
DTSTART;TZID=America/Edmonton:20220528T183000
DTEND;TZID=America/Edmonton:20220528T210000
DTSTAMP:20260423T100636
CREATED:20220307T185851Z
LAST-MODIFIED:20220307T185851Z
UID:3407-1653762600-1653771600@www.northwestscuba.com
SUMMARY:Deep Sea Adventure
DESCRIPTION:Ever wonder what it is like to dive in the lagoon at West Edmonton Mall. Call and book your spot.
URL:https://www.northwestscuba.com/event/deep-sea-adventure-10/
LOCATION:Deep Sea Adventure Lagoon – WEM\, 1755-8882 170 St NW\, Edmonton\, Alberta\, T5T 4J2\, Canada
END:VEVENT
BEGIN:VEVENT
DTSTART;TZID=America/Edmonton:20220423T183000
DTEND;TZID=America/Edmonton:20220423T210000
DTSTAMP:20260423T100636
CREATED:20220307T184913Z
LAST-MODIFIED:20220307T184913Z
UID:3395-1650738600-1650747600@www.northwestscuba.com
SUMMARY:Deep Sea Adventure
DESCRIPTION:Have you ever wondered what it is like to dive in the lagoon at West Edmonton Mall. Call and book your dive.
URL:https://www.northwestscuba.com/event/deep-sea-adventure-9/
LOCATION:Deep Sea Adventure Lagoon – WEM\, 1755-8882 170 St NW\, Edmonton\, Alberta\, T5T 4J2\, Canada
END:VEVENT
BEGIN:VEVENT
DTSTART;TZID=America/Edmonton:20220326T190000
DTEND;TZID=America/Edmonton:20220326T210000
DTSTAMP:20260423T100636
CREATED:20220306T233304Z
LAST-MODIFIED:20220306T233304Z
UID:3381-1648321200-1648328400@www.northwestscuba.com
SUMMARY:Deep Sea Adventure
DESCRIPTION:Ever wonder what it is like to dive the lagoon at West Edmonton Mall. Call and book your spot.
URL:https://www.northwestscuba.com/event/deep-sea-adventure-8/
LOCATION:Deep Sea Adventure Lagoon – WEM\, 1755-8882 170 St NW\, Edmonton\, Alberta\, T5T 4J2\, Canada
END:VEVENT
BEGIN:VEVENT
DTSTART;TZID=America/Edmonton:20220312T190000
DTEND;TZID=America/Edmonton:20220312T210000
DTSTAMP:20260423T100636
CREATED:20220306T233143Z
LAST-MODIFIED:20220306T233143Z
UID:3379-1647111600-1647118800@www.northwestscuba.com
SUMMARY:deep Sea Adventure
DESCRIPTION:Ever wonder what it is like to dive in the lagoon at West Edmonton Mall. Call and book.
URL:https://www.northwestscuba.com/event/deep-sea-adventure-7/
LOCATION:Deep Sea Adventure Lagoon – WEM\, 1755-8882 170 St NW\, Edmonton\, Alberta\, T5T 4J2\, Canada
END:VEVENT
BEGIN:VEVENT
DTSTART;TZID=America/Edmonton:20220226T190000
DTEND;TZID=America/Edmonton:20220226T210000
DTSTAMP:20260423T100636
CREATED:20211110T221937Z
LAST-MODIFIED:20211110T221937Z
UID:3350-1645902000-1645909200@www.northwestscuba.com
SUMMARY:Deep Sea Adventure
DESCRIPTION:Have you ever wondered what it is like to dive in the lagoon in West Edmonton Mall. Please call to book.
URL:https://www.northwestscuba.com/event/deep-sea-adventure-6/
LOCATION:Deep Sea Adventure Lagoon – WEM\, 1755-8882 170 St NW\, Edmonton\, Alberta\, T5T 4J2\, Canada
END:VEVENT
BEGIN:VEVENT
DTSTART;TZID=America/Edmonton:20220226T190000
DTEND;TZID=America/Edmonton:20220226T210000
DTSTAMP:20260423T100636
CREATED:20211110T194324Z
LAST-MODIFIED:20211110T194324Z
UID:3322-1645902000-1645909200@www.northwestscuba.com
SUMMARY:Deep Sea Adventure
DESCRIPTION:Have you ever wondered what it is like to dive in the lagoon at West Edmonton Mall. Please call to book.
URL:https://www.northwestscuba.com/event/deep-sea-adventure-4/
LOCATION:Deep Sea Adventure Lagoon – WEM\, 1755-8882 170 St NW\, Edmonton\, Alberta\, T5T 4J2\, Canada
END:VEVENT
BEGIN:VEVENT
DTSTART;TZID=America/Edmonton:20220212T190000
DTEND;TZID=America/Edmonton:20220212T210000
DTSTAMP:20260423T100636
CREATED:20211110T193554Z
LAST-MODIFIED:20211110T193554Z
UID:3314-1644692400-1644699600@www.northwestscuba.com
SUMMARY:Deep Sea Adventure
DESCRIPTION:Have you ever wondered what it is like to dive in the lagoon in West Edmonton Mall. Please call to book.
URL:https://www.northwestscuba.com/event/deep-sea-adventure-3/
LOCATION:Deep Sea Adventure Lagoon – WEM\, 1755-8882 170 St NW\, Edmonton\, Alberta\, T5T 4J2\, Canada
END:VEVENT
BEGIN:VEVENT
DTSTART;TZID=America/Edmonton:20220122T190000
DTEND;TZID=America/Edmonton:20220122T210000
DTSTAMP:20260423T100636
CREATED:20211110T221805Z
LAST-MODIFIED:20211110T221805Z
UID:3348-1642878000-1642885200@www.northwestscuba.com
SUMMARY:Deep Sea Adventure
DESCRIPTION:Have you ever wondered what it is like to dive in the lagoon at West Edmonton Mall. Please call and book.
URL:https://www.northwestscuba.com/event/deep-sea-adventure-5/
LOCATION:Deep Sea Adventure Lagoon – WEM\, 1755-8882 170 St NW\, Edmonton\, Alberta\, T5T 4J2\, Canada
END:VEVENT
BEGIN:VEVENT
DTSTART;TZID=America/Edmonton:20220115T190000
DTEND;TZID=America/Edmonton:20220115T210000
DTSTAMP:20260423T100636
CREATED:20211110T193011Z
LAST-MODIFIED:20211110T193011Z
UID:3310-1642273200-1642280400@www.northwestscuba.com
SUMMARY:Deep Sea Adventure
DESCRIPTION:Have you ever wondered what it is like to dive in the lagoon in West Edmonton Mall. Please call to book.
URL:https://www.northwestscuba.com/event/deep-sea-adventure-2/
LOCATION:Deep Sea Adventure Lagoon – WEM\, 1755-8882 170 St NW\, Edmonton\, Alberta\, T5T 4J2\, Canada
END:VEVENT
BEGIN:VEVENT
DTSTART;TZID=America/Edmonton:20211218T183000
DTEND;TZID=America/Edmonton:20211218T210000
DTSTAMP:20260423T100636
CREATED:20211110T192057Z
LAST-MODIFIED:20211110T192057Z
UID:3300-1639852200-1639861200@www.northwestscuba.com
SUMMARY:Deep Sea Adventure
DESCRIPTION:Have you ever wanted to dive in the Deep Sea Adventure at West Edmonton Mall. Call to book.
URL:https://www.northwestscuba.com/event/deep-sea-adventure/
LOCATION:Deep Sea Adventure Lagoon – WEM\, 1755-8882 170 St NW\, Edmonton\, Alberta\, T5T 4J2\, Canada
END:VEVENT
BEGIN:VEVENT
DTSTART;TZID=America/Edmonton:20210820T190000
DTEND;TZID=America/Edmonton:20210820T210000
DTSTAMP:20260423T100636
CREATED:20210714T211155Z
LAST-MODIFIED:20210714T211155Z
UID:3282-1629486000-1629493200@www.northwestscuba.com
SUMMARY:Deep Sea Adventure Lagoon
DESCRIPTION:Ever wonder what is in the Deep Sea Adventure Lagoon at WEM. Call and book.
URL:https://www.northwestscuba.com/event/deep-sea-adventure-lagoon-3/
LOCATION:Deep Sea Adventure Lagoon – WEM\, 1755-8882 170 St NW\, Edmonton\, Alberta\, T5T 4J2\, Canada
END:VEVENT
BEGIN:VEVENT
DTSTART;TZID=America/Edmonton:20210814T190000
DTEND;TZID=America/Edmonton:20210814T210000
DTSTAMP:20260423T100636
CREATED:20210712T231128Z
LAST-MODIFIED:20210712T231128Z
UID:3259-1628967600-1628974800@www.northwestscuba.com
SUMMARY:Deep Sea Adventure Lagoon
DESCRIPTION:Ever wonder what it is like to dive in the deep sea adventure lagoon in West Edmonton Mall. Call and join us.
URL:https://www.northwestscuba.com/event/deep-sea-adventure-lagoon-2/
LOCATION:Deep Sea Adventure Lagoon – WEM\, 1755-8882 170 St NW\, Edmonton\, Alberta\, T5T 4J2\, Canada
END:VEVENT
END:VCALENDAR