BEGIN:VCALENDAR
VERSION:2.0
PRODID:-//Northwest Scuba - ECPv6.15.11//NONSGML v1.0//EN
CALSCALE:GREGORIAN
METHOD:PUBLISH
X-WR-CALNAME:Northwest Scuba
X-ORIGINAL-URL:https://www.northwestscuba.com
X-WR-CALDESC:Events for Northwest Scuba
REFRESH-INTERVAL;VALUE=DURATION:PT1H
X-Robots-Tag:noindex
X-PUBLISHED-TTL:PT1H
BEGIN:VTIMEZONE
TZID:America/Edmonton
BEGIN:DAYLIGHT
TZOFFSETFROM:-0700
TZOFFSETTO:-0600
TZNAME:MDT
DTSTART:20250309T090000
END:DAYLIGHT
BEGIN:STANDARD
TZOFFSETFROM:-0600
TZOFFSETTO:-0700
TZNAME:MST
DTSTART:20251102T080000
END:STANDARD
BEGIN:DAYLIGHT
TZOFFSETFROM:-0700
TZOFFSETTO:-0600
TZNAME:MDT
DTSTART:20260308T090000
END:DAYLIGHT
BEGIN:STANDARD
TZOFFSETFROM:-0600
TZOFFSETTO:-0700
TZNAME:MST
DTSTART:20261101T080000
END:STANDARD
BEGIN:DAYLIGHT
TZOFFSETFROM:-0700
TZOFFSETTO:-0600
TZNAME:MDT
DTSTART:20270314T090000
END:DAYLIGHT
BEGIN:STANDARD
TZOFFSETFROM:-0600
TZOFFSETTO:-0700
TZNAME:MST
DTSTART:20271107T080000
END:STANDARD
END:VTIMEZONE
BEGIN:VEVENT
DTSTART;TZID=America/Edmonton:20260523T183000
DTEND;TZID=America/Edmonton:20260523T210000
DTSTAMP:20260423T035200
CREATED:20260311T185807Z
LAST-MODIFIED:20260311T185807Z
UID:4171-1779561000-1779570000@www.northwestscuba.com
SUMMARY:Deep Sea Adventure
DESCRIPTION:Have you ever wondered what it is like to dive in the lagoon at West Edmonton Mall. You need to come in to fill out paperwork to hold your spot.
URL:https://www.northwestscuba.com/event/deep-sea-adventure-51/
LOCATION:Deep Sea Adventure Lagoon – WEM\, 1755-8882 170 St NW\, Edmonton\, Alberta\, T5T 4J2\, Canada
END:VEVENT
BEGIN:VEVENT
DTSTART;TZID=America/Edmonton:20260627T183000
DTEND;TZID=America/Edmonton:20260627T210000
DTSTAMP:20260423T035200
CREATED:20260311T190842Z
LAST-MODIFIED:20260311T190842Z
UID:4183-1782585000-1782594000@www.northwestscuba.com
SUMMARY:Deep Sea Adventure
DESCRIPTION:Have you ever wondered what it is like to dive in the lagoon at West Edmonton Mall. Come in to fill out paperwork to hold your spot.
URL:https://www.northwestscuba.com/event/deep-sea-adventure-52/
LOCATION:Deep Sea Adventure Lagoon – WEM\, 1755-8882 170 St NW\, Edmonton\, Alberta\, T5T 4J2\, Canada
END:VEVENT
BEGIN:VEVENT
DTSTART;TZID=America/Edmonton:20260725T183000
DTEND;TZID=America/Edmonton:20260725T210000
DTSTAMP:20260423T035200
CREATED:20260421T194233Z
LAST-MODIFIED:20260421T194233Z
UID:4200-1785004200-1785013200@www.northwestscuba.com
SUMMARY:Deep Sea Adventure
DESCRIPTION:Have you ever wondered what it is like to dive in the lagoon at West Edmonton Mall. You need to come in to fill out paperwork and pay to hold your spot.
URL:https://www.northwestscuba.com/event/deep-sea-adventure-53/
LOCATION:Deep Sea Adventure Lagoon – WEM\, 1755-8882 170 St NW\, Edmonton\, Alberta\, T5T 4J2\, Canada
END:VEVENT
BEGIN:VEVENT
DTSTART;TZID=America/Edmonton:20260821T183000
DTEND;TZID=America/Edmonton:20260821T210000
DTSTAMP:20260423T035200
CREATED:20260421T195307Z
LAST-MODIFIED:20260421T195307Z
UID:4211-1787337000-1787346000@www.northwestscuba.com
SUMMARY:Deep Sea Adventure
DESCRIPTION:Have you ever wanted to dive in the lagoon at West Edmonton Mall. Come in to fill out paperwork and pay to hold your spot.
URL:https://www.northwestscuba.com/event/deep-sea-adventure-54/
LOCATION:Deep Sea Adventure Lagoon – WEM\, 1755-8882 170 St NW\, Edmonton\, Alberta\, T5T 4J2\, Canada
END:VEVENT
END:VCALENDAR