BEGIN:VCALENDAR
VERSION:2.0
PRODID:-//Northwest Scuba - ECPv6.15.11//NONSGML v1.0//EN
CALSCALE:GREGORIAN
METHOD:PUBLISH
X-WR-CALNAME:Northwest Scuba
X-ORIGINAL-URL:https://www.northwestscuba.com
X-WR-CALDESC:Events for Northwest Scuba
REFRESH-INTERVAL;VALUE=DURATION:PT1H
X-Robots-Tag:noindex
X-PUBLISHED-TTL:PT1H
BEGIN:VTIMEZONE
TZID:America/Edmonton
BEGIN:DAYLIGHT
TZOFFSETFROM:-0700
TZOFFSETTO:-0600
TZNAME:MDT
DTSTART:20220313T090000
END:DAYLIGHT
BEGIN:STANDARD
TZOFFSETFROM:-0600
TZOFFSETTO:-0700
TZNAME:MST
DTSTART:20221106T080000
END:STANDARD
BEGIN:DAYLIGHT
TZOFFSETFROM:-0700
TZOFFSETTO:-0600
TZNAME:MDT
DTSTART:20230312T090000
END:DAYLIGHT
BEGIN:STANDARD
TZOFFSETFROM:-0600
TZOFFSETTO:-0700
TZNAME:MST
DTSTART:20231105T080000
END:STANDARD
BEGIN:DAYLIGHT
TZOFFSETFROM:-0700
TZOFFSETTO:-0600
TZNAME:MDT
DTSTART:20240310T090000
END:DAYLIGHT
BEGIN:STANDARD
TZOFFSETFROM:-0600
TZOFFSETTO:-0700
TZNAME:MST
DTSTART:20241103T080000
END:STANDARD
BEGIN:DAYLIGHT
TZOFFSETFROM:-0700
TZOFFSETTO:-0600
TZNAME:MDT
DTSTART:20250309T090000
END:DAYLIGHT
BEGIN:STANDARD
TZOFFSETFROM:-0600
TZOFFSETTO:-0700
TZNAME:MST
DTSTART:20251102T080000
END:STANDARD
BEGIN:DAYLIGHT
TZOFFSETFROM:-0700
TZOFFSETTO:-0600
TZNAME:MDT
DTSTART:20260308T090000
END:DAYLIGHT
BEGIN:STANDARD
TZOFFSETFROM:-0600
TZOFFSETTO:-0700
TZNAME:MST
DTSTART:20261101T080000
END:STANDARD
BEGIN:DAYLIGHT
TZOFFSETFROM:-0700
TZOFFSETTO:-0600
TZNAME:MDT
DTSTART:20270314T090000
END:DAYLIGHT
BEGIN:STANDARD
TZOFFSETFROM:-0600
TZOFFSETTO:-0700
TZNAME:MST
DTSTART:20271107T080000
END:STANDARD
END:VTIMEZONE
BEGIN:VEVENT
DTSTART;TZID=America/Edmonton:20260419T183000
DTEND;TZID=America/Edmonton:20260419T210000
DTSTAMP:20260423T052902
CREATED:20260311T184720Z
LAST-MODIFIED:20260311T184720Z
UID:4161-1776623400-1776632400@www.northwestscuba.com
SUMMARY:Deep Sea Adventure
DESCRIPTION:Have you ever wondered what it is like to dive in the lagoon at West Edmonton Mall. Come in and fill out paperwork to book your spot.
URL:https://www.northwestscuba.com/event/deep-sea-adventure-50/
LOCATION:Deep Sea Adventure Lagoon – WEM\, 1755-8882 170 St NW\, Edmonton\, Alberta\, T5T 4J2\, Canada
END:VEVENT
BEGIN:VEVENT
DTSTART;TZID=America/Edmonton:20260328T183000
DTEND;TZID=America/Edmonton:20260328T210000
DTSTAMP:20260423T052902
CREATED:20251206T203500Z
LAST-MODIFIED:20251206T203500Z
UID:4127-1774722600-1774731600@www.northwestscuba.com
SUMMARY:Deep Sea Adventure
DESCRIPTION:Have you ever wondered what it is like to dive where the ship is at West Edmonton Mall. Come in to fill out paperwork to hold your spot.
URL:https://www.northwestscuba.com/event/deep-sea-adventure-49/
LOCATION:Deep Sea Adventure Lagoon – WEM\, 1755-8882 170 St NW\, Edmonton\, Alberta\, T5T 4J2\, Canada
END:VEVENT
BEGIN:VEVENT
DTSTART;TZID=America/Edmonton:20260221T183000
DTEND;TZID=America/Edmonton:20260221T210000
DTSTAMP:20260423T052902
CREATED:20251206T202632Z
LAST-MODIFIED:20251206T202632Z
UID:4117-1771698600-1771707600@www.northwestscuba.com
SUMMARY:Deep Sea Adventure
DESCRIPTION:Have you ever wondered what it is like to dive where the ship is at West Edmonton Mall. Come in and fill out paperwork to hold your spot.
URL:https://www.northwestscuba.com/event/deep-sea-adventure-48/
LOCATION:Deep Sea Adventure Lagoon – WEM\, 1755-8882 170 St NW\, Edmonton\, Alberta\, T5T 4J2\, Canada
END:VEVENT
BEGIN:VEVENT
DTSTART;TZID=America/Edmonton:20260125T183000
DTEND;TZID=America/Edmonton:20260125T210000
DTSTAMP:20260423T052902
CREATED:20251206T201436Z
LAST-MODIFIED:20251206T201436Z
UID:4107-1769365800-1769374800@www.northwestscuba.com
SUMMARY:Deep Sea Adventure
DESCRIPTION:Have you ever wondered what it is like to dive where the ship is at West Edmonton Mall. Come in and fill out paperwork to hold your spot.
URL:https://www.northwestscuba.com/event/deep-sea-adventure-47/
LOCATION:Deep Sea Adventure Lagoon – WEM\, 1755-8882 170 St NW\, Edmonton\, Alberta\, T5T 4J2\, Canada
END:VEVENT
BEGIN:VEVENT
DTSTART;TZID=America/Edmonton:20251026T080000
DTEND;TZID=America/Edmonton:20251026T170000
DTSTAMP:20260423T052902
CREATED:20250908T184054Z
LAST-MODIFIED:20250908T184054Z
UID:4050-1761465600-1761498000@www.northwestscuba.com
SUMMARY:Deep Sea Adventure
DESCRIPTION:Have you ever wondered what it is like to dive in the lagoon at West Edmonton Mall. Come in and fill out paperwork to book your spot.
URL:https://www.northwestscuba.com/event/deep-sea-adventure-45/
LOCATION:Deep Sea Adventure Lagoon – WEM\, 1755-8882 170 St NW\, Edmonton\, Alberta\, T5T 4J2\, Canada
END:VEVENT
BEGIN:VEVENT
DTSTART;TZID=America/Edmonton:20250920T183000
DTEND;TZID=America/Edmonton:20250920T210000
DTSTAMP:20260423T052902
CREATED:20250908T182950Z
LAST-MODIFIED:20250908T182950Z
UID:4038-1758393000-1758402000@www.northwestscuba.com
SUMMARY:Deep Sea Adventure
DESCRIPTION:Have you ever wondered what it is like to dive in the lagoon at West Edmonton Mall. Come in and sign the paperwork to book your spot.
URL:https://www.northwestscuba.com/event/deep-sea-adventure-44/
LOCATION:Deep Sea Adventure Lagoon – WEM\, 1755-8882 170 St NW\, Edmonton\, Alberta\, T5T 4J2\, Canada
END:VEVENT
BEGIN:VEVENT
DTSTART;TZID=America/Edmonton:20250323T180000
DTEND;TZID=America/Edmonton:20250323T203000
DTSTAMP:20260423T052902
CREATED:20250219T184433Z
LAST-MODIFIED:20250219T184433Z
UID:3934-1742752800-1742761800@www.northwestscuba.com
SUMMARY:Deep Sea Adventure
DESCRIPTION:Have you ever wondered what it is like to dive in the lagoon at West Edmonton Mall. Come in and fill out paperwork to book your spot.
URL:https://www.northwestscuba.com/event/deep-sea-adventure-43/
LOCATION:Deep Sea Adventure Lagoon – WEM\, 1755-8882 170 St NW\, Edmonton\, Alberta\, T5T 4J2\, Canada
END:VEVENT
BEGIN:VEVENT
DTSTART;TZID=America/Edmonton:20250223T183000
DTEND;TZID=America/Edmonton:20250223T203000
DTSTAMP:20260423T052902
CREATED:20241127T222707Z
LAST-MODIFIED:20241127T222707Z
UID:3918-1740335400-1740342600@www.northwestscuba.com
SUMMARY:Deep Sea Adventure
DESCRIPTION:Come in with your certification card and fill out paperwork to hold your spot.
URL:https://www.northwestscuba.com/event/deep-sea-adventure-42/
LOCATION:Deep Sea Adventure Lagoon – WEM\, 1755-8882 170 St NW\, Edmonton\, Alberta\, T5T 4J2\, Canada
END:VEVENT
BEGIN:VEVENT
DTSTART;TZID=America/Edmonton:20250119T180000
DTEND;TZID=America/Edmonton:20250119T203000
DTSTAMP:20260423T052902
CREATED:20241127T221307Z
LAST-MODIFIED:20241209T185529Z
UID:3906-1737309600-1737318600@www.northwestscuba.com
SUMMARY:Deep Sea Adventure
DESCRIPTION:Come in with your certification card and fill out paperwork to hold your spot.
URL:https://www.northwestscuba.com/event/deep-sea-adventure-41/
LOCATION:Deep Sea Adventure Lagoon – WEM\, 1755-8882 170 St NW\, Edmonton\, Alberta\, T5T 4J2\, Canada
END:VEVENT
BEGIN:VEVENT
DTSTART;TZID=America/Edmonton:20241221T183000
DTEND;TZID=America/Edmonton:20241221T210000
DTSTAMP:20260423T052902
CREATED:20240902T183908Z
LAST-MODIFIED:20240902T183908Z
UID:3882-1734805800-1734814800@www.northwestscuba.com
SUMMARY:Deep Sea Adventure
DESCRIPTION:Have you ever wondered what it is like to dive in the lagoon at West Edmonton Mall. Come in and fill out paperwork to hold your spot.
URL:https://www.northwestscuba.com/event/deep-sea-adventure-40/
LOCATION:Deep Sea Adventure Lagoon – WEM\, 1755-8882 170 St NW\, Edmonton\, Alberta\, T5T 4J2\, Canada
END:VEVENT
BEGIN:VEVENT
DTSTART;TZID=America/Edmonton:20241122T190000
DTEND;TZID=America/Edmonton:20241122T213000
DTSTAMP:20260423T052902
CREATED:20240902T183000Z
LAST-MODIFIED:20240902T183000Z
UID:3871-1732302000-1732311000@www.northwestscuba.com
SUMMARY:Deep Sea Adventure
DESCRIPTION:Have you ever wondered what it is like to dive in the lagoon at West Edmonton Mall. Come in and sign up and fill out paperwork to hold your spot.
URL:https://www.northwestscuba.com/event/deep-sea-adventure-39/
LOCATION:Deep Sea Adventure Lagoon – WEM\, 1755-8882 170 St NW\, Edmonton\, Alberta\, T5T 4J2\, Canada
END:VEVENT
BEGIN:VEVENT
DTSTART;TZID=America/Edmonton:20240913T203000
DTEND;TZID=America/Edmonton:20240913T223000
DTSTAMP:20260423T052902
CREATED:20240812T214411Z
LAST-MODIFIED:20240812T214411Z
UID:3848-1726259400-1726266600@www.northwestscuba.com
SUMMARY:Deep Sea Adventure
DESCRIPTION:Have you ever wanted to dive where the ship is at West Edmonton Mall. Call and book your spot. You do need to come in and fill paperwork out.
URL:https://www.northwestscuba.com/event/deep-sea-adventure-37/
LOCATION:Deep Sea Adventure Lagoon – WEM\, 1755-8882 170 St NW\, Edmonton\, Alberta\, T5T 4J2\, Canada
END:VEVENT
BEGIN:VEVENT
DTSTART;TZID=America/Edmonton:20240816T183000
DTEND;TZID=America/Edmonton:20240816T210000
DTSTAMP:20260423T052902
CREATED:20240517T210056Z
LAST-MODIFIED:20240726T164819Z
UID:3835-1723833000-1723842000@www.northwestscuba.com
SUMMARY:Deep Sea Adventure
DESCRIPTION:Ever wonder waht it is like to dive where the ship is at West Edmonton Mall. Call and book your adventure and come in to fill out paperwork.
URL:https://www.northwestscuba.com/event/deep-sea-adventure-36/
LOCATION:Deep Sea Adventure Lagoon – WEM\, 1755-8882 170 St NW\, Edmonton\, Alberta\, T5T 4J2\, Canada
END:VEVENT
BEGIN:VEVENT
DTSTART;TZID=America/Edmonton:20240727T183000
DTEND;TZID=America/Edmonton:20240727T210000
DTSTAMP:20260423T052902
CREATED:20240517T205219Z
LAST-MODIFIED:20240517T205219Z
UID:3827-1722105000-1722114000@www.northwestscuba.com
SUMMARY:Deep Sea Adventure
DESCRIPTION:Have you ever wondered what it is like to dive where the ship is at West Edmonton Mall. Call and book your adventure and come in and fill out paperwork.
URL:https://www.northwestscuba.com/event/deep-sea-adventure-35/
LOCATION:Deep Sea Adventure Lagoon – WEM\, 1755-8882 170 St NW\, Edmonton\, Alberta\, T5T 4J2\, Canada
END:VEVENT
BEGIN:VEVENT
DTSTART;TZID=America/Edmonton:20240622T183000
DTEND;TZID=America/Edmonton:20240622T210000
DTSTAMP:20260423T052902
CREATED:20240224T164719Z
LAST-MODIFIED:20240224T164719Z
UID:3810-1719081000-1719090000@www.northwestscuba.com
SUMMARY:Deep Sea Adventure
DESCRIPTION:Have you ever wondered what it is like to dive where the ship is at West Edmonton Mall. Come in and book your spot and fill out paperwork. You need to be certified.
URL:https://www.northwestscuba.com/event/deep-sea-adventure-34/
LOCATION:Deep Sea Adventure Lagoon – WEM\, 1755-8882 170 St NW\, Edmonton\, Alberta\, T5T 4J2\, Canada
END:VEVENT
BEGIN:VEVENT
DTSTART;TZID=America/Edmonton:20240525T080000
DTEND;TZID=America/Edmonton:20240525T170000
DTSTAMP:20260423T052902
CREATED:20240224T163917Z
LAST-MODIFIED:20240224T163917Z
UID:3800-1716624000-1716656400@www.northwestscuba.com
SUMMARY:Deep Sea Adventure
DESCRIPTION:Have you ever wondered what it is like to dive where the ship is at West Edmonton Mall. Come in to book and fill out paperwork. You need to be certified.
URL:https://www.northwestscuba.com/event/deep-sea-adventure-33/
LOCATION:Deep Sea Adventure Lagoon – WEM\, 1755-8882 170 St NW\, Edmonton\, Alberta\, T5T 4J2\, Canada
END:VEVENT
BEGIN:VEVENT
DTSTART;TZID=America/Edmonton:20240427T183000
DTEND;TZID=America/Edmonton:20240427T210000
DTSTAMP:20260423T052902
CREATED:20240224T162507Z
LAST-MODIFIED:20240224T162507Z
UID:3790-1714242600-1714251600@www.northwestscuba.com
SUMMARY:Deep Sea Adventure
DESCRIPTION:Have you ever wondered what it is like to dive where the ship is in West Edmonton Mall. Come in and book your spot and fill out paperwork. You need to be certified for this dive.
URL:https://www.northwestscuba.com/event/deep-sea-adventure-32/
LOCATION:Deep Sea Adventure Lagoon – WEM\, 1755-8882 170 St NW\, Edmonton\, Alberta\, T5T 4J2\, Canada
END:VEVENT
BEGIN:VEVENT
DTSTART;TZID=America/Edmonton:20240309T183000
DTEND;TZID=America/Edmonton:20240309T210000
DTSTAMP:20260423T052902
CREATED:20231202T171107Z
LAST-MODIFIED:20231202T171107Z
UID:3759-1710009000-1710018000@www.northwestscuba.com
SUMMARY:Deep Sea Adventure
DESCRIPTION:Have you ever wondered what it is like to dive in the lagoon at West Edmonton Mall. You need to come in and book and fill out paperwork.
URL:https://www.northwestscuba.com/event/deep-sea-adventure-31/
LOCATION:Deep Sea Adventure Lagoon – WEM\, 1755-8882 170 St NW\, Edmonton\, Alberta\, T5T 4J2\, Canada
END:VEVENT
BEGIN:VEVENT
DTSTART;TZID=America/Edmonton:20240224T183000
DTEND;TZID=America/Edmonton:20240224T210000
DTSTAMP:20260423T052902
CREATED:20231202T170719Z
LAST-MODIFIED:20231202T170719Z
UID:3755-1708799400-1708808400@www.northwestscuba.com
SUMMARY:Deep Sea Adventure
DESCRIPTION:Have you ever wondered what it is like to dive in the Lagoon at West Edmonton Mall. You need to come in and book and fill out paperwork.
URL:https://www.northwestscuba.com/event/deep-sea-adventure-30/
LOCATION:Deep Sea Adventure Lagoon – WEM\, 1755-8882 170 St NW\, Edmonton\, Alberta\, T5T 4J2\, Canada
END:VEVENT
BEGIN:VEVENT
DTSTART;TZID=America/Edmonton:20240120T183000
DTEND;TZID=America/Edmonton:20240120T210000
DTSTAMP:20260423T052902
CREATED:20231202T164355Z
LAST-MODIFIED:20231202T164355Z
UID:3739-1705775400-1705784400@www.northwestscuba.com
SUMMARY:Deep Sea Adventure
DESCRIPTION:Have you ever wondered what it is like to dive in the lagoon at West Edmonton Mall. You need to come in and fill out paperwork. Book early.
URL:https://www.northwestscuba.com/event/deep-sea-adventure-29/
LOCATION:Deep Sea Adventure Lagoon – WEM\, 1755-8882 170 St NW\, Edmonton\, Alberta\, T5T 4J2\, Canada
END:VEVENT
BEGIN:VEVENT
DTSTART;TZID=America/Edmonton:20231215T183000
DTEND;TZID=America/Edmonton:20231215T210000
DTSTAMP:20260423T052902
CREATED:20230918T190624Z
LAST-MODIFIED:20230918T190624Z
UID:3715-1702665000-1702674000@www.northwestscuba.com
SUMMARY:Deep Sea Adventure
DESCRIPTION:Join us for a dive in the lagoon at West Edmonton Mall. You need to come in and fill out paperwork.
URL:https://www.northwestscuba.com/event/deep-sea-adventure-28/
LOCATION:Deep Sea Adventure Lagoon – WEM\, 1755-8882 170 St NW\, Edmonton\, Alberta\, T5T 4J2\, Canada
END:VEVENT
BEGIN:VEVENT
DTSTART;TZID=America/Edmonton:20231125T183000
DTEND;TZID=America/Edmonton:20231125T210000
DTSTAMP:20260423T052902
CREATED:20230905T212524Z
LAST-MODIFIED:20230905T212524Z
UID:3704-1700937000-1700946000@www.northwestscuba.com
SUMMARY:Deep Sea Adventure
DESCRIPTION:Have ever wondered what it is like to dive in the lagoon at West Edmonton Mall. You need to come in and fill out paperwork.
URL:https://www.northwestscuba.com/event/deep-sea-adventure-27/
LOCATION:Deep Sea Adventure Lagoon – WEM\, 1755-8882 170 St NW\, Edmonton\, Alberta\, T5T 4J2\, Canada
END:VEVENT
BEGIN:VEVENT
DTSTART;TZID=America/Edmonton:20231028T183000
DTEND;TZID=America/Edmonton:20231028T210000
DTSTAMP:20260423T052902
CREATED:20230905T211813Z
LAST-MODIFIED:20230905T211813Z
UID:3696-1698517800-1698526800@www.northwestscuba.com
SUMMARY:Deep Sea Adventure
DESCRIPTION:Have you ever wondered what it is like to dive in the lagoon at West Edmonton Mall. Come in and book your spot and fill out paperwork.
URL:https://www.northwestscuba.com/event/deep-sea-adventure-26/
LOCATION:Deep Sea Adventure Lagoon – WEM\, 1755-8882 170 St NW\, Edmonton\, Alberta\, T5T 4J2\, Canada
END:VEVENT
BEGIN:VEVENT
DTSTART;TZID=America/Edmonton:20230923T183000
DTEND;TZID=America/Edmonton:20230923T210000
DTSTAMP:20260423T052902
CREATED:20230729T150522Z
LAST-MODIFIED:20230729T150522Z
UID:3681-1695493800-1695502800@www.northwestscuba.com
SUMMARY:Deep Sea Adventure
DESCRIPTION:Have you ever wanted to dive in the lagoon at West Edmonton Mall. Call and book your adventure.
URL:https://www.northwestscuba.com/event/deep-sea-adventure-25/
LOCATION:Deep Sea Adventure Lagoon – WEM\, 1755-8882 170 St NW\, Edmonton\, Alberta\, T5T 4J2\, Canada
END:VEVENT
BEGIN:VEVENT
DTSTART;TZID=America/Edmonton:20230722T183000
DTEND;TZID=America/Edmonton:20230722T210000
DTSTAMP:20260423T052902
CREATED:20230408T173002Z
LAST-MODIFIED:20230408T173002Z
UID:3644-1690050600-1690059600@www.northwestscuba.com
SUMMARY:Deep Sea Adventure
DESCRIPTION:Have you ever wondered what it is like to dive in the lagoon at West Edmonton Mall. Call and book your spot. You do need to come in and sign paperwork.
URL:https://www.northwestscuba.com/event/deep-sea-adventure-24/
LOCATION:Deep Sea Adventure Lagoon – WEM\, 1755-8882 170 St NW\, Edmonton\, Alberta\, T5T 4J2\, Canada
END:VEVENT
BEGIN:VEVENT
DTSTART;TZID=America/Edmonton:20230624T183000
DTEND;TZID=America/Edmonton:20230624T210000
DTSTAMP:20260423T052902
CREATED:20230408T172051Z
LAST-MODIFIED:20230408T174948Z
UID:3634-1687631400-1687640400@www.northwestscuba.com
SUMMARY:The Deep Sea Adventure
DESCRIPTION:Have you ever wondered what it is like to dive the lagoon at West Edmonton Mall. Call and book your spot. You need to come in and sign paperwork.
URL:https://www.northwestscuba.com/event/the-deep-sea-adventure/
LOCATION:Deep Sea Adventure Lagoon – WEM\, 1755-8882 170 St NW\, Edmonton\, Alberta\, T5T 4J2\, Canada
END:VEVENT
BEGIN:VEVENT
DTSTART;TZID=America/Edmonton:20230513T183000
DTEND;TZID=America/Edmonton:20230513T210000
DTSTAMP:20260423T052902
CREATED:20230408T171028Z
LAST-MODIFIED:20230408T174434Z
UID:3620-1684002600-1684011600@www.northwestscuba.com
SUMMARY:Deep Sea Adventure
DESCRIPTION:Have you ever wondered what it is like to dive in the lagoon at West Edmonton Mall. Call and book your spot. You need to come in and sign paperwork.
URL:https://www.northwestscuba.com/event/deep-sea-adventure-23/
LOCATION:Deep Sea Adventure Lagoon – WEM\, 1755-8882 170 St NW\, Edmonton\, Alberta\, T5T 4J2\, Canada
END:VEVENT
BEGIN:VEVENT
DTSTART;TZID=America/Edmonton:20230415T183000
DTEND;TZID=America/Edmonton:20230415T210000
DTSTAMP:20260423T052902
CREATED:20221130T214911Z
LAST-MODIFIED:20230408T174112Z
UID:3588-1681583400-1681592400@www.northwestscuba.com
SUMMARY:Deep Sea Adventure
DESCRIPTION:Ever wonder what it is like to dive in the lagoon at West Edmonton Mall. Call to book your adventure. You need to come in and sign paperwork.
URL:https://www.northwestscuba.com/event/deep-sea-adventure-21/
LOCATION:Deep Sea Adventure Lagoon – WEM\, 1755-8882 170 St NW\, Edmonton\, Alberta\, T5T 4J2\, Canada
END:VEVENT
BEGIN:VEVENT
DTSTART;TZID=America/Edmonton:20230317T183000
DTEND;TZID=America/Edmonton:20230317T210000
DTSTAMP:20260423T052902
CREATED:20221130T214249Z
LAST-MODIFIED:20221130T214249Z
UID:3578-1679077800-1679086800@www.northwestscuba.com
SUMMARY:Deep Sea Adventure
DESCRIPTION:Ever wonder what it is like to dive in the lagoon at West Edmonton Mall. Call to book your adventure.
URL:https://www.northwestscuba.com/event/deep-sea-adventure-20/
LOCATION:Deep Sea Adventure Lagoon – WEM\, 1755-8882 170 St NW\, Edmonton\, Alberta\, T5T 4J2\, Canada
END:VEVENT
BEGIN:VEVENT
DTSTART;TZID=America/Edmonton:20230128T183000
DTEND;TZID=America/Edmonton:20230128T210000
DTSTAMP:20260423T052902
CREATED:20221213T194656Z
LAST-MODIFIED:20221213T194656Z
UID:3596-1674930600-1674939600@www.northwestscuba.com
SUMMARY:Deep Sea Adventure
DESCRIPTION:Ever wonder what it is like to dive in the worlds largest indoor lagoon. Call and book your spot.
URL:https://www.northwestscuba.com/event/deep-sea-adventure-22/
LOCATION:Deep Sea Adventure Lagoon – WEM\, 1755-8882 170 St NW\, Edmonton\, Alberta\, T5T 4J2\, Canada
END:VEVENT
END:VCALENDAR